BEGIN:VCALENDAR
VERSION:2.0
PRODID:-//horsealert.local//NONSGML kigkonsult.se iCalcreator 2.10.5//
CALSCALE:GREGORIAN
X-WR-TIMEZONE:Europe/Dublin
BEGIN:VTIMEZONE
TZID:Etc/GMT-1
BEGIN:STANDARD
DTSTART:20010101T000000
TZOFFSETFROM:+0100
TZOFFSETTO:+0100
TZNAME:GMT +01:00
END:STANDARD
END:VTIMEZONE
BEGIN:VEVENT
UID:20260423T182959CEST-1628P3pvfM@horsealert.local
DTSTAMP:20260423T160459Z
CATEGORIES:Horse Alerts
DESCRIPTION:Book Online At tramore-racecourse.com Handicap Chase \(0-109\)
DTSTART:20150530T193500
LOCATION:Eire
SUMMARY:Horse Racing:Book Online At tramore-racecourse.com Handicap Chase \
 (0-109\)
END:VEVENT
END:VCALENDAR
