BEGIN:VCALENDAR
VERSION:2.0
PRODID:-//horsealert.local//NONSGML kigkonsult.se iCalcreator 2.10.5//
CALSCALE:GREGORIAN
X-WR-TIMEZONE:Europe/Dublin
BEGIN:VTIMEZONE
TZID:Etc/GMT-1
BEGIN:STANDARD
DTSTART:20010101T000000
TZOFFSETFROM:+0100
TZOFFSETTO:+0100
TZNAME:GMT +01:00
END:STANDARD
END:VTIMEZONE
BEGIN:VEVENT
UID:20260423T182821CEST-36161SJW7V@horsealert.local
DTSTAMP:20260423T160421Z
CATEGORIES:Horse Alerts
DESCRIPTION:Infinity Tyres Breeders Backing Racing EBF Fillies\' Stakes \(H
 andicap\)
DTSTART:20150530T164000
LOCATION:England
SUMMARY:Horse Racing:Infinity Tyres Breeders Backing Racing EBF Fillies\' S
 takes \(Handicap\)
END:VEVENT
END:VCALENDAR
