BEGIN:VCALENDAR
VERSION:2.0
PRODID:-//horsealert.local//NONSGML kigkonsult.se iCalcreator 2.10.5//
CALSCALE:GREGORIAN
X-WR-TIMEZONE:Europe/Dublin
BEGIN:VTIMEZONE
TZID:Etc/GMT-1
BEGIN:STANDARD
DTSTART:20010101T000000
TZOFFSETFROM:+0100
TZOFFSETTO:+0100
TZNAME:GMT +01:00
END:STANDARD
END:VTIMEZONE
BEGIN:VEVENT
UID:20260423T183109CEST-54283zDV0W@horsealert.local
DTSTAMP:20260423T160409Z
CATEGORIES:Horse Alerts
DESCRIPTION:Timeform Jury Stakes \(Registered As The John Of Gaunt Stakes\)
  \(Group 3\)
DTSTART:20150530T143500
LOCATION:England
SUMMARY:Horse Racing:Timeform Jury Stakes \(Registered As The John Of Gaunt
  Stakes\) \(Group 3\)
END:VEVENT
END:VCALENDAR
