BEGIN:VCALENDAR
VERSION:2.0
PRODID:-//horsealert.local//NONSGML kigkonsult.se iCalcreator 2.10.5//
CALSCALE:GREGORIAN
X-WR-TIMEZONE:Europe/Dublin
BEGIN:VTIMEZONE
TZID:Etc/GMT-1
BEGIN:STANDARD
DTSTART:20010101T000000
TZOFFSETFROM:+0100
TZOFFSETTO:+0100
TZNAME:GMT +01:00
END:STANDARD
END:VTIMEZONE
BEGIN:VEVENT
UID:20260423T183311CEST-2085XZm4Rd@horsealert.local
DTSTAMP:20260423T160411Z
CATEGORIES:Horse Alerts
DESCRIPTION:pointtopoint.co.uk Champion Novices\' Hunters\' Chase \(For The
  John Corbet Cup\)
DTSTART:20150529T185500
LOCATION:England
SUMMARY:Horse Racing:pointtopoint.co.uk Champion Novices\' Hunters\' Chase 
 \(For The John Corbet Cup\)
END:VEVENT
END:VCALENDAR
