BEGIN:VCALENDAR
VERSION:2.0
PRODID:-//horsealert.local//NONSGML kigkonsult.se iCalcreator 2.10.5//
CALSCALE:GREGORIAN
X-WR-TIMEZONE:Europe/Dublin
BEGIN:VTIMEZONE
TZID:Etc/GMT-1
BEGIN:STANDARD
DTSTART:20010101T000000
TZOFFSETFROM:+0100
TZOFFSETTO:+0100
TZNAME:GMT +01:00
END:STANDARD
END:VTIMEZONE
BEGIN:VEVENT
UID:20260423T182654CEST-50407GzvNC@horsealert.local
DTSTAMP:20260423T160454Z
CATEGORIES:Horse Alerts
DESCRIPTION:betdaq.com Serious About Horses Apprentice Training Series Hand
 icap
DTSTART:20150529T181500
LOCATION:England
SUMMARY:Horse Racing:betdaq.com Serious About Horses Apprentice Training Se
 ries Handicap
END:VEVENT
END:VCALENDAR
