BEGIN:VCALENDAR
VERSION:2.0
PRODID:-//horsealert.local//NONSGML kigkonsult.se iCalcreator 2.10.5//
CALSCALE:GREGORIAN
X-WR-TIMEZONE:Europe/Dublin
BEGIN:VTIMEZONE
TZID:Etc/GMT-1
BEGIN:STANDARD
DTSTART:20010101T000000
TZOFFSETFROM:+0100
TZOFFSETTO:+0100
TZNAME:GMT +01:00
END:STANDARD
END:VTIMEZONE
BEGIN:VEVENT
UID:20260423T182651CEST-5358KvBuvU@horsealert.local
DTSTAMP:20260423T160451Z
CATEGORIES:Horse Alerts
DESCRIPTION:Leslie Petch Handicap \(Qualifier For The 2015 Catterick Twelve
  Furlong Series Final\)
DTSTART:20150529T204000
LOCATION:England
SUMMARY:Horse Racing:Leslie Petch Handicap \(Qualifier For The 2015 Catteri
 ck Twelve Furlong Series Final\)
END:VEVENT
END:VCALENDAR
