BEGIN:VCALENDAR
VERSION:2.0
PRODID:-//horsealert.local//NONSGML kigkonsult.se iCalcreator 2.10.5//
CALSCALE:GREGORIAN
X-WR-TIMEZONE:Europe/Dublin
BEGIN:VTIMEZONE
TZID:Etc/GMT-1
BEGIN:STANDARD
DTSTART:20010101T000000
TZOFFSETFROM:+0100
TZOFFSETTO:+0100
TZNAME:GMT +01:00
END:STANDARD
END:VTIMEZONE
BEGIN:VEVENT
UID:20260423T182805CEST-8781GNeMMJ@horsealert.local
DTSTAMP:20260423T160405Z
CATEGORIES:Horse Alerts
DESCRIPTION:Cantor Fitzgerald Debt Capital Markets National Stakes \(Listed
 \)
DTSTART:20150528T183500
LOCATION:England
SUMMARY:Horse Racing:Cantor Fitzgerald Debt Capital Markets National Stakes
  \(Listed\)
END:VEVENT
END:VCALENDAR
