BEGIN:VCALENDAR
VERSION:2.0
PRODID:-//horsealert.local//NONSGML kigkonsult.se iCalcreator 2.10.5//
CALSCALE:GREGORIAN
X-WR-TIMEZONE:Europe/Dublin
BEGIN:VTIMEZONE
TZID:Etc/GMT-1
BEGIN:STANDARD
DTSTART:20010101T000000
TZOFFSETFROM:+0100
TZOFFSETTO:+0100
TZNAME:GMT +01:00
END:STANDARD
END:VTIMEZONE
BEGIN:VEVENT
UID:20260423T183404CEST-3864V1RPxH@horsealert.local
DTSTAMP:20260423T160404Z
CATEGORIES:Horse Alerts
DESCRIPTION:EBF Stallion ApolloBet Maiden Fillies\' Stakes \(Plus10\) \(Div
  2\)
DTSTART:20150528T145000
LOCATION:England
SUMMARY:Horse Racing:EBF Stallion ApolloBet Maiden Fillies\' Stakes \(Plus1
 0\) \(Div 2\)
END:VEVENT
END:VCALENDAR
