BEGIN:VCALENDAR
VERSION:2.0
PRODID:-//horsealert.local//NONSGML kigkonsult.se iCalcreator 2.10.5//
CALSCALE:GREGORIAN
X-WR-TIMEZONE:Europe/Dublin
BEGIN:VTIMEZONE
TZID:Etc/GMT-1
BEGIN:STANDARD
DTSTART:20010101T000000
TZOFFSETFROM:+0100
TZOFFSETTO:+0100
TZNAME:GMT +01:00
END:STANDARD
END:VTIMEZONE
BEGIN:VEVENT
UID:20260423T183147CEST-01393KKjWu@horsealert.local
DTSTAMP:20260423T160447Z
CATEGORIES:Horse Alerts
DESCRIPTION:Flexitrans Ltd 10th Anniversary Conditional Jockeys\' Handicap 
 Hurdle
DTSTART:20150526T182000
LOCATION:England
SUMMARY:Horse Racing:Flexitrans Ltd 10th Anniversary Conditional Jockeys\' 
 Handicap Hurdle
END:VEVENT
END:VCALENDAR
