BEGIN:VCALENDAR
VERSION:2.0
PRODID:-//horsealert.local//NONSGML kigkonsult.se iCalcreator 2.10.5//
CALSCALE:GREGORIAN
X-WR-TIMEZONE:Europe/Dublin
BEGIN:VTIMEZONE
TZID:Etc/GMT-1
BEGIN:STANDARD
DTSTART:20010101T000000
TZOFFSETFROM:+0100
TZOFFSETTO:+0100
TZNAME:GMT +01:00
END:STANDARD
END:VTIMEZONE
BEGIN:VEVENT
UID:20260423T182806CEST-1572bc7fpx@horsealert.local
DTSTAMP:20260423T160406Z
CATEGORIES:Horse Alerts
DESCRIPTION:ApolloBet \'Daily Racing Specials\' Maiden Fillies\' Stakes
DTSTART:20150525T151000
LOCATION:England
SUMMARY:Horse Racing:ApolloBet \'Daily Racing Specials\' Maiden Fillies\' S
 takes
END:VEVENT
END:VCALENDAR
