BEGIN:VCALENDAR
VERSION:2.0
PRODID:-//horsealert.local//NONSGML kigkonsult.se iCalcreator 2.10.5//
CALSCALE:GREGORIAN
X-WR-TIMEZONE:Europe/Dublin
BEGIN:VTIMEZONE
TZID:Etc/GMT-1
BEGIN:STANDARD
DTSTART:20010101T000000
TZOFFSETFROM:+0100
TZOFFSETTO:+0100
TZNAME:GMT +01:00
END:STANDARD
END:VTIMEZONE
BEGIN:VEVENT
UID:20260423T183148CEST-0136Abh2UF@horsealert.local
DTSTAMP:20260423T160448Z
CATEGORIES:Horse Alerts
DESCRIPTION:Jane Sturrock 40th Birthday Bash Standard Open NH Flat Race
DTSTART:20150524T175500
LOCATION:Scotland
SUMMARY:Horse Racing:Jane Sturrock 40th Birthday Bash Standard Open NH Flat
  Race
END:VEVENT
END:VCALENDAR
