BEGIN:VCALENDAR
VERSION:2.0
PRODID:-//horsealert.local//NONSGML kigkonsult.se iCalcreator 2.10.5//
CALSCALE:GREGORIAN
X-WR-TIMEZONE:Europe/Dublin
BEGIN:VTIMEZONE
TZID:Etc/GMT-1
BEGIN:STANDARD
DTSTART:20010101T000000
TZOFFSETFROM:+0100
TZOFFSETTO:+0100
TZNAME:GMT +01:00
END:STANDARD
END:VTIMEZONE
BEGIN:VEVENT
UID:20260423T182759CEST-71960pRiHM@horsealert.local
DTSTAMP:20260423T160459Z
CATEGORIES:Horse Alerts
DESCRIPTION:Royal Scots Dragoon Guards Challenge Cup \(Open Hunters\' Chase
 \)
DTSTART:20150524T165500
LOCATION:Scotland
SUMMARY:Horse Racing:Royal Scots Dragoon Guards Challenge Cup \(Open Hunter
 s\' Chase\)
END:VEVENT
END:VCALENDAR
