BEGIN:VCALENDAR
VERSION:2.0
PRODID:-//horsealert.local//NONSGML kigkonsult.se iCalcreator 2.10.5//
CALSCALE:GREGORIAN
X-WR-TIMEZONE:Europe/Dublin
BEGIN:VTIMEZONE
TZID:Etc/GMT-1
BEGIN:STANDARD
DTSTART:20010101T000000
TZOFFSETFROM:+0100
TZOFFSETTO:+0100
TZNAME:GMT +01:00
END:STANDARD
END:VTIMEZONE
BEGIN:VEVENT
UID:20260423T182626CEST-9734557WVT@horsealert.local
DTSTAMP:20260423T160426Z
CATEGORIES:Horse Alerts
DESCRIPTION:Lyntoun Taxis & Andersons Butchers East Lothian Novices\' Hurdl
 e
DTSTART:20150524T141000
LOCATION:Scotland
SUMMARY:Horse Racing:Lyntoun Taxis & Andersons Butchers East Lothian Novice
 s\' Hurdle
END:VEVENT
END:VCALENDAR
