BEGIN:VCALENDAR
VERSION:2.0
PRODID:-//horsealert.local//NONSGML kigkonsult.se iCalcreator 2.10.5//
CALSCALE:GREGORIAN
X-WR-TIMEZONE:Europe/Dublin
BEGIN:VTIMEZONE
TZID:Etc/GMT-1
BEGIN:STANDARD
DTSTART:20010101T000000
TZOFFSETFROM:+0100
TZOFFSETTO:+0100
TZNAME:GMT +01:00
END:STANDARD
END:VTIMEZONE
BEGIN:VEVENT
UID:20260423T182625CEST-0510TurzVT@horsealert.local
DTSTAMP:20260423T160425Z
CATEGORIES:Horse Alerts
DESCRIPTION:Dublin Coach To The Curragh Races European Breeders Fund Maiden
DTSTART:20150524T173000
LOCATION:Eire
SUMMARY:Horse Racing:Dublin Coach To The Curragh Races European Breeders Fu
 nd Maiden
END:VEVENT
END:VCALENDAR
