BEGIN:VCALENDAR
VERSION:2.0
PRODID:-//horsealert.local//NONSGML kigkonsult.se iCalcreator 2.10.5//
CALSCALE:GREGORIAN
X-WR-TIMEZONE:Europe/Dublin
BEGIN:VTIMEZONE
TZID:Etc/GMT-1
BEGIN:STANDARD
DTSTART:20010101T000000
TZOFFSETFROM:+0100
TZOFFSETTO:+0100
TZNAME:GMT +01:00
END:STANDARD
END:VTIMEZONE
BEGIN:VEVENT
UID:20260423T183244CEST-4864pdo4oU@horsealert.local
DTSTAMP:20260423T160444Z
CATEGORIES:Horse Alerts
DESCRIPTION:Corbeil-cerf Maiden Stakes \(colts & Geldings\)
DTSTART:20150521T111500
LOCATION:France
SUMMARY:Horse Racing:Corbeil-cerf Maiden Stakes \(colts & Geldings\)
END:VEVENT
END:VCALENDAR
