BEGIN:VCALENDAR
VERSION:2.0
PRODID:-//horsealert.local//NONSGML kigkonsult.se iCalcreator 2.10.5//
CALSCALE:GREGORIAN
X-WR-TIMEZONE:Europe/Dublin
BEGIN:VTIMEZONE
TZID:Etc/GMT-1
BEGIN:STANDARD
DTSTART:20010101T000000
TZOFFSETFROM:+0100
TZOFFSETTO:+0100
TZNAME:GMT +01:00
END:STANDARD
END:VTIMEZONE
BEGIN:VEVENT
UID:20260423T182624CEST-2372jVB5BL@horsealert.local
DTSTAMP:20260423T160424Z
CATEGORIES:Horse Alerts
DESCRIPTION:Central Taxis - Faster\, Greener\, Safer Maiden Stakes
DTSTART:20150522T191000
LOCATION:Scotland
SUMMARY:Horse Racing:Central Taxis - Faster\, Greener\, Safer Maiden Stakes
END:VEVENT
END:VCALENDAR
