BEGIN:VCALENDAR
VERSION:2.0
PRODID:-//horsealert.local//NONSGML kigkonsult.se iCalcreator 2.10.5//
CALSCALE:GREGORIAN
X-WR-TIMEZONE:Europe/Dublin
BEGIN:VTIMEZONE
TZID:Etc/GMT-1
BEGIN:STANDARD
DTSTART:20010101T000000
TZOFFSETFROM:+0100
TZOFFSETTO:+0100
TZNAME:GMT +01:00
END:STANDARD
END:VTIMEZONE
BEGIN:VEVENT
UID:20260423T182623CEST-8646J22NKw@horsealert.local
DTSTAMP:20260423T160423Z
CATEGORIES:Horse Alerts
DESCRIPTION:Wigan Warriors Business Club Interactive Handicap
DTSTART:20150522T154000
LOCATION:England
SUMMARY:Horse Racing:Wigan Warriors Business Club Interactive Handicap
END:VEVENT
END:VCALENDAR
