BEGIN:VCALENDAR
VERSION:2.0
PRODID:-//horsealert.local//NONSGML kigkonsult.se iCalcreator 2.10.5//
CALSCALE:GREGORIAN
X-WR-TIMEZONE:Europe/Dublin
BEGIN:VTIMEZONE
TZID:Etc/GMT-1
BEGIN:STANDARD
DTSTART:20010101T000000
TZOFFSETFROM:+0100
TZOFFSETTO:+0100
TZNAME:GMT +01:00
END:STANDARD
END:VTIMEZONE
BEGIN:VEVENT
UID:20260423T183211CEST-6131leFcFF@horsealert.local
DTSTAMP:20260423T160411Z
CATEGORIES:Horse Alerts
DESCRIPTION:Full Golf Club Membership For 560 Handicap
DTSTART:20150518T153000
LOCATION:England
SUMMARY:Horse Racing:Full Golf Club Membership For 560 Handicap
END:VEVENT
END:VCALENDAR
