BEGIN:VCALENDAR
VERSION:2.0
PRODID:-//horsealert.local//NONSGML kigkonsult.se iCalcreator 2.10.5//
CALSCALE:GREGORIAN
X-WR-TIMEZONE:Europe/Dublin
BEGIN:VTIMEZONE
TZID:Etc/GMT-1
BEGIN:STANDARD
DTSTART:20010101T000000
TZOFFSETFROM:+0100
TZOFFSETTO:+0100
TZNAME:GMT +01:00
END:STANDARD
END:VTIMEZONE
BEGIN:VEVENT
UID:20260423T182903CEST-5303is4HUB@horsealert.local
DTSTAMP:20260423T160403Z
CATEGORIES:Horse Alerts
DESCRIPTION:racinguk.com/anywhere: 3 Devices\, 1 Price Median Auction Maide
 n Stakes
DTSTART:20150518T165000
LOCATION:England
SUMMARY:Horse Racing:racinguk.com/anywhere: 3 Devices\, 1 Price Median Auct
 ion Maiden Stakes
END:VEVENT
END:VCALENDAR
