BEGIN:VCALENDAR
VERSION:2.0
PRODID:-//horsealert.local//NONSGML kigkonsult.se iCalcreator 2.10.5//
CALSCALE:GREGORIAN
X-WR-TIMEZONE:Europe/Dublin
BEGIN:VTIMEZONE
TZID:Etc/GMT-1
BEGIN:STANDARD
DTSTART:20010101T000000
TZOFFSETFROM:+0100
TZOFFSETTO:+0100
TZNAME:GMT +01:00
END:STANDARD
END:VTIMEZONE
BEGIN:VEVENT
UID:20260423T182631CEST-2499wcFU6w@horsealert.local
DTSTAMP:20260423T160431Z
CATEGORIES:Horse Alerts
DESCRIPTION:C. B. Hutchinson Memorial Challenge Cup \(Fillies\' Handicap\)
DTSTART:20150517T151500
LOCATION:England
SUMMARY:Horse Racing:C. B. Hutchinson Memorial Challenge Cup \(Fillies\' Ha
 ndicap\)
END:VEVENT
END:VCALENDAR
