BEGIN:VCALENDAR
VERSION:2.0
PRODID:-//horsealert.local//NONSGML kigkonsult.se iCalcreator 2.10.5//
CALSCALE:GREGORIAN
X-WR-TIMEZONE:Europe/Dublin
BEGIN:VTIMEZONE
TZID:Etc/GMT-1
BEGIN:STANDARD
DTSTART:20010101T000000
TZOFFSETFROM:+0100
TZOFFSETTO:+0100
TZNAME:GMT +01:00
END:STANDARD
END:VTIMEZONE
BEGIN:VEVENT
UID:20260423T182956CEST-7863WHRVuZ@horsealert.local
DTSTAMP:20260423T160456Z
CATEGORIES:Horse Alerts
DESCRIPTION:Bet On UK Racing At CorbettSports Handicap Hurdle
DTSTART:20150516T160500
LOCATION:Wales
SUMMARY:Horse Racing:Bet On UK Racing At CorbettSports Handicap Hurdle
END:VEVENT
END:VCALENDAR
