BEGIN:VCALENDAR
VERSION:2.0
PRODID:-//horsealert.local//NONSGML kigkonsult.se iCalcreator 2.10.5//
CALSCALE:GREGORIAN
X-WR-TIMEZONE:Europe/Dublin
BEGIN:VTIMEZONE
TZID:Etc/GMT-1
BEGIN:STANDARD
DTSTART:20010101T000000
TZOFFSETFROM:+0100
TZOFFSETTO:+0100
TZNAME:GMT +01:00
END:STANDARD
END:VTIMEZONE
BEGIN:VEVENT
UID:20260423T182509CEST-3239x7J9ir@horsealert.local
DTSTAMP:20260423T160409Z
CATEGORIES:Horse Alerts
DESCRIPTION:Bet On Your Mobile At corbettsports.com Novices\' Handicap Hurd
 le
DTSTART:20150516T135000
LOCATION:Wales
SUMMARY:Horse Racing:Bet On Your Mobile At corbettsports.com Novices\' Hand
 icap Hurdle
END:VEVENT
END:VCALENDAR
