BEGIN:VCALENDAR
VERSION:2.0
PRODID:-//horsealert.local//NONSGML kigkonsult.se iCalcreator 2.10.5//
CALSCALE:GREGORIAN
X-WR-TIMEZONE:Europe/Dublin
BEGIN:VTIMEZONE
TZID:Etc/GMT-1
BEGIN:STANDARD
DTSTART:20010101T000000
TZOFFSETFROM:+0100
TZOFFSETTO:+0100
TZNAME:GMT +01:00
END:STANDARD
END:VTIMEZONE
BEGIN:VEVENT
UID:20260423T183145CEST-73696RgNrD@horsealert.local
DTSTAMP:20260423T160445Z
CATEGORIES:Horse Alerts
DESCRIPTION:31 Market Place Cocktail Bar & Bistro Handicap
DTSTART:20150516T204500
LOCATION:England
SUMMARY:Horse Racing:31 Market Place Cocktail Bar & Bistro Handicap
END:VEVENT
END:VCALENDAR
