BEGIN:VCALENDAR
VERSION:2.0
PRODID:-//horsealert.local//NONSGML kigkonsult.se iCalcreator 2.10.5//
CALSCALE:GREGORIAN
X-WR-TIMEZONE:Europe/Dublin
BEGIN:VTIMEZONE
TZID:Etc/GMT-1
BEGIN:STANDARD
DTSTART:20010101T000000
TZOFFSETFROM:+0100
TZOFFSETTO:+0100
TZNAME:GMT +01:00
END:STANDARD
END:VTIMEZONE
BEGIN:VEVENT
UID:20260423T182937CEST-1127keCO94@horsealert.local
DTSTAMP:20260423T160437Z
CATEGORIES:Horse Alerts
DESCRIPTION:DBS Spring Sales \'Point-To-Point\' Bumper Final \(Maiden NH Fl
 at Race For Amateur Riders\)
DTSTART:20150515T204500
LOCATION:England
SUMMARY:Horse Racing:DBS Spring Sales \'Point-To-Point\' Bumper Final \(Mai
 den NH Flat Race For Amateur Riders\)
END:VEVENT
END:VCALENDAR
