BEGIN:VCALENDAR
VERSION:2.0
PRODID:-//horsealert.local//NONSGML kigkonsult.se iCalcreator 2.10.5//
CALSCALE:GREGORIAN
X-WR-TIMEZONE:Europe/Dublin
BEGIN:VTIMEZONE
TZID:Etc/GMT-1
BEGIN:STANDARD
DTSTART:20010101T000000
TZOFFSETFROM:+0100
TZOFFSETTO:+0100
TZNAME:GMT +01:00
END:STANDARD
END:VTIMEZONE
BEGIN:VEVENT
UID:20260423T182632CEST-6010pSslcD@horsealert.local
DTSTAMP:20260423T160432Z
CATEGORIES:Horse Alerts
DESCRIPTION:Irish Stallion Farms EBF Maiden Stakes \(Qualifier For The 20\,
 000 Highland Spring Water Hamilton Park 2-Y-O Series Final\)
DTSTART:20150515T175000
LOCATION:Scotland
SUMMARY:Horse Racing:Irish Stallion Farms EBF Maiden Stakes \(Qualifier For
  The 20\,000 Highland Spring Water Hamilton Park 2-Y-O Series Final\)
END:VEVENT
END:VCALENDAR
