BEGIN:VCALENDAR
VERSION:2.0
PRODID:-//horsealert.local//NONSGML kigkonsult.se iCalcreator 2.10.5//
CALSCALE:GREGORIAN
X-WR-TIMEZONE:Europe/Dublin
BEGIN:VTIMEZONE
TZID:Etc/GMT-1
BEGIN:STANDARD
DTSTART:20010101T000000
TZOFFSETFROM:+0100
TZOFFSETTO:+0100
TZNAME:GMT +01:00
END:STANDARD
END:VTIMEZONE
BEGIN:VEVENT
UID:20260423T182824CEST-0898RUIH8O@horsealert.local
DTSTAMP:20260423T160424Z
CATEGORIES:Horse Alerts
DESCRIPTION:EBF Stallions Breeding Winners Frank Whittle Partnership Stakes
  \(Fillies\' Handicap\)
DTSTART:20150515T165000
LOCATION:England
SUMMARY:Horse Racing:EBF Stallions Breeding Winners Frank Whittle Partnersh
 ip Stakes \(Fillies\' Handicap\)
END:VEVENT
END:VCALENDAR
