BEGIN:VCALENDAR
VERSION:2.0
PRODID:-//horsealert.local//NONSGML kigkonsult.se iCalcreator 2.10.5//
CALSCALE:GREGORIAN
X-WR-TIMEZONE:Europe/Dublin
BEGIN:VTIMEZONE
TZID:Etc/GMT-1
BEGIN:STANDARD
DTSTART:20010101T000000
TZOFFSETFROM:+0100
TZOFFSETTO:+0100
TZNAME:GMT +01:00
END:STANDARD
END:VTIMEZONE
BEGIN:VEVENT
UID:20260423T183311CEST-9300voNc0D@horsealert.local
DTSTAMP:20260423T160411Z
CATEGORIES:Horse Alerts
DESCRIPTION:racebets.com - Claim Your 50 Welcome Bonus! Novices\' Hunters\'
  Chase
DTSTART:20150514T170500
LOCATION:England
SUMMARY:Horse Racing:racebets.com - Claim Your 50 Welcome Bonus! Novices\' 
 Hunters\' Chase
END:VEVENT
END:VCALENDAR
