BEGIN:VCALENDAR
VERSION:2.0
PRODID:-//horsealert.local//NONSGML kigkonsult.se iCalcreator 2.10.5//
CALSCALE:GREGORIAN
X-WR-TIMEZONE:Europe/Dublin
BEGIN:VTIMEZONE
TZID:Etc/GMT-1
BEGIN:STANDARD
DTSTART:20010101T000000
TZOFFSETFROM:+0100
TZOFFSETTO:+0100
TZNAME:GMT +01:00
END:STANDARD
END:VTIMEZONE
BEGIN:VEVENT
UID:20260423T182934CEST-7352NV1ev3@horsealert.local
DTSTAMP:20260423T160434Z
CATEGORIES:Horse Alerts
DESCRIPTION:D\'elancourt Claiming
DTSTART:20150513T120000
LOCATION:France
SUMMARY:Horse Racing:D\'elancourt Claiming
END:VEVENT
END:VCALENDAR
