BEGIN:VCALENDAR
VERSION:2.0
PRODID:-//horsealert.local//NONSGML kigkonsult.se iCalcreator 2.10.5//
CALSCALE:GREGORIAN
X-WR-TIMEZONE:Europe/Dublin
BEGIN:VTIMEZONE
TZID:Etc/GMT-1
BEGIN:STANDARD
DTSTART:20010101T000000
TZOFFSETFROM:+0100
TZOFFSETTO:+0100
TZNAME:GMT +01:00
END:STANDARD
END:VTIMEZONE
BEGIN:VEVENT
UID:20260423T183102CEST-5151NmgXAZ@horsealert.local
DTSTAMP:20260423T160402Z
CATEGORIES:Horse Alerts
DESCRIPTION:Redbourn Engineering Ltd Fillies\' Handicap \(Jockey Club Grass
 roots Flat Middle Distance Series Qualifier\)
DTSTART:20150514T200000
LOCATION:England
SUMMARY:Horse Racing:Redbourn Engineering Ltd Fillies\' Handicap \(Jockey C
 lub Grassroots Flat Middle Distance Series Qualifier\)
END:VEVENT
END:VCALENDAR
