BEGIN:VCALENDAR
VERSION:2.0
PRODID:-//horsealert.local//NONSGML kigkonsult.se iCalcreator 2.10.5//
CALSCALE:GREGORIAN
X-WR-TIMEZONE:Europe/Dublin
BEGIN:VTIMEZONE
TZID:Etc/GMT-1
BEGIN:STANDARD
DTSTART:20010101T000000
TZOFFSETFROM:+0100
TZOFFSETTO:+0100
TZNAME:GMT +01:00
END:STANDARD
END:VTIMEZONE
BEGIN:VEVENT
UID:20260423T183310CEST-0276vv9e3A@horsealert.local
DTSTAMP:20260423T160410Z
CATEGORIES:Horse Alerts
DESCRIPTION:Premier Conservatory Roofs Guardian Warm Roof Median Auction Ma
 iden Stakes
DTSTART:20150513T194500
LOCATION:England
SUMMARY:Horse Racing:Premier Conservatory Roofs Guardian Warm Roof Median A
 uction Maiden Stakes
END:VEVENT
END:VCALENDAR
