BEGIN:VCALENDAR
VERSION:2.0
PRODID:-//horsealert.local//NONSGML kigkonsult.se iCalcreator 2.10.5//
CALSCALE:GREGORIAN
X-WR-TIMEZONE:Europe/Dublin
BEGIN:VTIMEZONE
TZID:Etc/GMT-1
BEGIN:STANDARD
DTSTART:20010101T000000
TZOFFSETFROM:+0100
TZOFFSETTO:+0100
TZNAME:GMT +01:00
END:STANDARD
END:VTIMEZONE
BEGIN:VEVENT
UID:20260423T183108CEST-3457LthCbm@horsealert.local
DTSTAMP:20260423T160408Z
CATEGORIES:Horse Alerts
DESCRIPTION:Support Beaumond House On 2nd June Intermediate NH Flat Race \(
 Conditional/Amateur\)
DTSTART:20150512T202500
LOCATION:England
SUMMARY:Horse Racing:Support Beaumond House On 2nd June Intermediate NH Fla
 t Race \(Conditional/Amateur\)
END:VEVENT
END:VCALENDAR
