BEGIN:VCALENDAR
VERSION:2.0
PRODID:-//horsealert.local//NONSGML kigkonsult.se iCalcreator 2.10.5//
CALSCALE:GREGORIAN
X-WR-TIMEZONE:Europe/Dublin
BEGIN:VTIMEZONE
TZID:Etc/GMT-1
BEGIN:STANDARD
DTSTART:20010101T000000
TZOFFSETFROM:+0100
TZOFFSETTO:+0100
TZNAME:GMT +01:00
END:STANDARD
END:VTIMEZONE
BEGIN:VEVENT
UID:20260423T182821CEST-7152b4NFuo@horsealert.local
DTSTAMP:20260423T160421Z
CATEGORIES:Horse Alerts
DESCRIPTION:Paxtons For Independent Twine \'King Of String\' Maiden Hurdle
DTSTART:20150512T141500
LOCATION:England
SUMMARY:Horse Racing:Paxtons For Independent Twine \'King Of String\' Maide
 n Hurdle
END:VEVENT
END:VCALENDAR
