BEGIN:VCALENDAR
VERSION:2.0
PRODID:-//horsealert.local//NONSGML kigkonsult.se iCalcreator 2.10.5//
CALSCALE:GREGORIAN
X-WR-TIMEZONE:Europe/Dublin
BEGIN:VTIMEZONE
TZID:Etc/GMT-1
BEGIN:STANDARD
DTSTART:20010101T000000
TZOFFSETFROM:+0100
TZOFFSETTO:+0100
TZNAME:GMT +01:00
END:STANDARD
END:VTIMEZONE
BEGIN:VEVENT
UID:20260423T182932CEST-9963rnxBCW@horsealert.local
DTSTAMP:20260423T160432Z
CATEGORIES:Horse Alerts
DESCRIPTION:Hospitality Packages Online At www.limerickraces.ie Handicap Hu
 rdle \(80-95\)
DTSTART:20150512T143000
LOCATION:Eire
SUMMARY:Horse Racing:Hospitality Packages Online At www.limerickraces.ie Ha
 ndicap Hurdle \(80-95\)
END:VEVENT
END:VCALENDAR
