BEGIN:VCALENDAR
VERSION:2.0
PRODID:-//horsealert.local//NONSGML kigkonsult.se iCalcreator 2.10.5//
CALSCALE:GREGORIAN
X-WR-TIMEZONE:Europe/Dublin
BEGIN:VTIMEZONE
TZID:Etc/GMT-1
BEGIN:STANDARD
DTSTART:20010101T000000
TZOFFSETFROM:+0100
TZOFFSETTO:+0100
TZNAME:GMT +01:00
END:STANDARD
END:VTIMEZONE
BEGIN:VEVENT
UID:20260423T183443CEST-3240dfXUR7@horsealert.local
DTSTAMP:20260423T160443Z
CATEGORIES:Horse Alerts
DESCRIPTION:Solomons Family 25th Wedding Anniversary Novices\' Handicap Cha
 se
DTSTART:20150511T200000
LOCATION:England
SUMMARY:Horse Racing:Solomons Family 25th Wedding Anniversary Novices\' Han
 dicap Chase
END:VEVENT
END:VCALENDAR
