BEGIN:VCALENDAR
VERSION:2.0
PRODID:-//horsealert.local//NONSGML kigkonsult.se iCalcreator 2.10.5//
CALSCALE:GREGORIAN
X-WR-TIMEZONE:Europe/Dublin
BEGIN:VTIMEZONE
TZID:Etc/GMT-1
BEGIN:STANDARD
DTSTART:20010101T000000
TZOFFSETFROM:+0100
TZOFFSETTO:+0100
TZNAME:GMT +01:00
END:STANDARD
END:VTIMEZONE
BEGIN:VEVENT
UID:20260423T182634CEST-5934IsVees@horsealert.local
DTSTAMP:20260423T160434Z
CATEGORIES:Horse Alerts
DESCRIPTION:Sponsor A Race By Calling 01902 390000 Median Auction Maiden St
 akes
DTSTART:20150511T164000
LOCATION:England
SUMMARY:Horse Racing:Sponsor A Race By Calling 01902 390000 Median Auction 
 Maiden Stakes
END:VEVENT
END:VCALENDAR
