BEGIN:VCALENDAR
VERSION:2.0
PRODID:-//horsealert.local//NONSGML kigkonsult.se iCalcreator 2.10.5//
CALSCALE:GREGORIAN
X-WR-TIMEZONE:Europe/Dublin
BEGIN:VTIMEZONE
TZID:Etc/GMT-1
BEGIN:STANDARD
DTSTART:20010101T000000
TZOFFSETFROM:+0100
TZOFFSETTO:+0100
TZNAME:GMT +01:00
END:STANDARD
END:VTIMEZONE
BEGIN:VEVENT
UID:20260423T183444CEST-1403jVpgh9@horsealert.local
DTSTAMP:20260423T160444Z
CATEGORIES:Horse Alerts
DESCRIPTION:totepool Bet On All UK Racing Novices\' Limited Handicap Chase
DTSTART:20150510T144500
LOCATION:England
SUMMARY:Horse Racing:totepool Bet On All UK Racing Novices\' Limited Handic
 ap Chase
END:VEVENT
END:VCALENDAR
