BEGIN:VCALENDAR
VERSION:2.0
PRODID:-//horsealert.local//NONSGML kigkonsult.se iCalcreator 2.10.5//
CALSCALE:GREGORIAN
X-WR-TIMEZONE:Europe/Dublin
BEGIN:VTIMEZONE
TZID:Etc/GMT-1
BEGIN:STANDARD
DTSTART:20010101T000000
TZOFFSETFROM:+0100
TZOFFSETTO:+0100
TZNAME:GMT +01:00
END:STANDARD
END:VTIMEZONE
BEGIN:VEVENT
UID:20260423T182858CEST-7093jxbREa@horsealert.local
DTSTAMP:20260423T160458Z
CATEGORIES:Horse Alerts
DESCRIPTION:Leane\'s Tool Hire & Lawnmowers Chase
DTSTART:20150510T172500
LOCATION:Eire
SUMMARY:Horse Racing:Leane\'s Tool Hire & Lawnmowers Chase
END:VEVENT
END:VCALENDAR
