BEGIN:VCALENDAR
VERSION:2.0
PRODID:-//horsealert.local//NONSGML kigkonsult.se iCalcreator 2.10.5//
CALSCALE:GREGORIAN
X-WR-TIMEZONE:Europe/Dublin
BEGIN:VTIMEZONE
TZID:Etc/GMT-1
BEGIN:STANDARD
DTSTART:20010101T000000
TZOFFSETFROM:+0100
TZOFFSETTO:+0100
TZNAME:GMT +01:00
END:STANDARD
END:VTIMEZONE
BEGIN:VEVENT
UID:20260423T182933CEST-0938O8EFGv@horsealert.local
DTSTAMP:20260423T160433Z
CATEGORIES:Horse Alerts
DESCRIPTION:North East Oyster Festival In Newcastle Standard Open NH Flat R
 ace
DTSTART:20150509T173000
LOCATION:England
SUMMARY:Horse Racing:North East Oyster Festival In Newcastle Standard Open 
 NH Flat Race
END:VEVENT
END:VCALENDAR
