BEGIN:VCALENDAR
VERSION:2.0
PRODID:-//horsealert.local//NONSGML kigkonsult.se iCalcreator 2.10.5//
CALSCALE:GREGORIAN
X-WR-TIMEZONE:Europe/Dublin
BEGIN:VTIMEZONE
TZID:Etc/GMT-1
BEGIN:STANDARD
DTSTART:20010101T000000
TZOFFSETFROM:+0100
TZOFFSETTO:+0100
TZNAME:GMT +01:00
END:STANDARD
END:VTIMEZONE
BEGIN:VEVENT
UID:20260423T183143CEST-28681VDNOc@horsealert.local
DTSTAMP:20260423T160443Z
CATEGORIES:Horse Alerts
DESCRIPTION:Pertemps Network Handicap Hurdle \(Registered As The Swinton Hu
 rdle\) \(Grade 3\)
DTSTART:20150509T152500
LOCATION:England
SUMMARY:Horse Racing:Pertemps Network Handicap Hurdle \(Registered As The S
 winton Hurdle\) \(Grade 3\)
END:VEVENT
END:VCALENDAR
