BEGIN:VCALENDAR
VERSION:2.0
PRODID:-//horsealert.local//NONSGML kigkonsult.se iCalcreator 2.10.5//
CALSCALE:GREGORIAN
X-WR-TIMEZONE:Europe/Dublin
BEGIN:VTIMEZONE
TZID:Etc/GMT-1
BEGIN:STANDARD
DTSTART:20010101T000000
TZOFFSETFROM:+0100
TZOFFSETTO:+0100
TZNAME:GMT +01:00
END:STANDARD
END:VTIMEZONE
BEGIN:VEVENT
UID:20260423T182653CEST-9938037v8A@horsealert.local
DTSTAMP:20260423T160453Z
CATEGORIES:Horse Alerts
DESCRIPTION:Racing UK Your Racing Home From Home Conditional Jockeys\' Hand
 icap Hurdle
DTSTART:20150507T202000
LOCATION:England
SUMMARY:Horse Racing:Racing UK Your Racing Home From Home Conditional Jocke
 ys\' Handicap Hurdle
END:VEVENT
END:VCALENDAR
