BEGIN:VCALENDAR
VERSION:2.0
PRODID:-//horsealert.local//NONSGML kigkonsult.se iCalcreator 2.10.5//
CALSCALE:GREGORIAN
X-WR-TIMEZONE:Europe/Dublin
BEGIN:VTIMEZONE
TZID:Etc/GMT-1
BEGIN:STANDARD
DTSTART:20010101T000000
TZOFFSETFROM:+0100
TZOFFSETTO:+0100
TZNAME:GMT +01:00
END:STANDARD
END:VTIMEZONE
BEGIN:VEVENT
UID:20260423T182826CEST-18136C7caL@horsealert.local
DTSTAMP:20260423T160426Z
CATEGORIES:Horse Alerts
DESCRIPTION:Most Reliable Bet DG Taxis Median Auction Maiden Fillies\' Stak
 es \(Plus 10\)
DTSTART:20150508T174500
LOCATION:England
SUMMARY:Horse Racing:Most Reliable Bet DG Taxis Median Auction Maiden Filli
 es\' Stakes \(Plus 10\)
END:VEVENT
END:VCALENDAR
