BEGIN:VCALENDAR
VERSION:2.0
PRODID:-//horsealert.local//NONSGML kigkonsult.se iCalcreator 2.10.5//
CALSCALE:GREGORIAN
X-WR-TIMEZONE:Europe/Dublin
BEGIN:VTIMEZONE
TZID:Etc/GMT-1
BEGIN:STANDARD
DTSTART:20010101T000000
TZOFFSETFROM:+0100
TZOFFSETTO:+0100
TZNAME:GMT +01:00
END:STANDARD
END:VTIMEZONE
BEGIN:VEVENT
UID:20260423T182809CEST-2597AhBVth@horsealert.local
DTSTAMP:20260423T160409Z
CATEGORIES:Horse Alerts
DESCRIPTION:Quirke uPVC Windows \(Clonmel\) Tipperary Perpetual Cup Handica
 p
DTSTART:20150507T200000
LOCATION:Eire
SUMMARY:Horse Racing:Quirke uPVC Windows \(Clonmel\) Tipperary Perpetual Cu
 p Handicap
END:VEVENT
END:VCALENDAR
