BEGIN:VCALENDAR
VERSION:2.0
PRODID:-//horsealert.local//NONSGML kigkonsult.se iCalcreator 2.10.5//
CALSCALE:GREGORIAN
X-WR-TIMEZONE:Europe/Dublin
BEGIN:VTIMEZONE
TZID:Etc/GMT-1
BEGIN:STANDARD
DTSTART:20010101T000000
TZOFFSETFROM:+0100
TZOFFSETTO:+0100
TZNAME:GMT +01:00
END:STANDARD
END:VTIMEZONE
BEGIN:VEVENT
UID:20260423T183006CEST-2035StBG9A@horsealert.local
DTSTAMP:20260423T160406Z
CATEGORIES:Horse Alerts
DESCRIPTION:Ladies Evening At Clonmel Races May 21st Handicap \(47-70\)
DTSTART:20150507T190000
LOCATION:Eire
SUMMARY:Horse Racing:Ladies Evening At Clonmel Races May 21st Handicap \(47
 -70\)
END:VEVENT
END:VCALENDAR
