BEGIN:VCALENDAR
VERSION:2.0
PRODID:-//horsealert.local//NONSGML kigkonsult.se iCalcreator 2.10.5//
CALSCALE:GREGORIAN
X-WR-TIMEZONE:Europe/Dublin
BEGIN:VTIMEZONE
TZID:Etc/GMT-1
BEGIN:STANDARD
DTSTART:20010101T000000
TZOFFSETFROM:+0100
TZOFFSETTO:+0100
TZNAME:GMT +01:00
END:STANDARD
END:VTIMEZONE
BEGIN:VEVENT
UID:20260423T183442CEST-5056mCKvU4@horsealert.local
DTSTAMP:20260423T160442Z
CATEGORIES:Horse Alerts
DESCRIPTION:Berwick Speedway Every Saturday Kids Free Novices\' Hunters\' C
 hase \(For The Charlie Brown Trophy\)
DTSTART:20150506T163000
LOCATION:Scotland
SUMMARY:Horse Racing:Berwick Speedway Every Saturday Kids Free Novices\' Hu
 nters\' Chase \(For The Charlie Brown Trophy\)
END:VEVENT
END:VCALENDAR
