BEGIN:VCALENDAR
VERSION:2.0
PRODID:-//horsealert.local//NONSGML kigkonsult.se iCalcreator 2.10.5//
CALSCALE:GREGORIAN
X-WR-TIMEZONE:Europe/Dublin
BEGIN:VTIMEZONE
TZID:Etc/GMT-1
BEGIN:STANDARD
DTSTART:20010101T000000
TZOFFSETFROM:+0100
TZOFFSETTO:+0100
TZNAME:GMT +01:00
END:STANDARD
END:VTIMEZONE
BEGIN:VEVENT
UID:20260423T183113CEST-4157dktcrF@horsealert.local
DTSTAMP:20260423T160413Z
CATEGORIES:Horse Alerts
DESCRIPTION:IRL Open Hunters\' Chase \(For The Turner Family Trophy\)
DTSTART:20150505T160000
LOCATION:England
SUMMARY:Horse Racing:IRL Open Hunters\' Chase \(For The Turner Family Troph
 y\)
END:VEVENT
END:VCALENDAR
