BEGIN:VCALENDAR
VERSION:2.0
PRODID:-//horsealert.local//NONSGML kigkonsult.se iCalcreator 2.10.5//
CALSCALE:GREGORIAN
X-WR-TIMEZONE:Europe/Dublin
BEGIN:VTIMEZONE
TZID:Etc/GMT-1
BEGIN:STANDARD
DTSTART:20010101T000000
TZOFFSETFROM:+0100
TZOFFSETTO:+0100
TZNAME:GMT +01:00
END:STANDARD
END:VTIMEZONE
BEGIN:VEVENT
UID:20260423T183403CEST-2905cBu9lx@horsealert.local
DTSTAMP:20260423T160403Z
CATEGORIES:Horse Alerts
DESCRIPTION:So You Think European Breeders Fund Mooresbridge Stakes \(Group
  3\)
DTSTART:20150504T162500
LOCATION:Eire
SUMMARY:Horse Racing:So You Think European Breeders Fund Mooresbridge Stake
 s \(Group 3\)
END:VEVENT
END:VCALENDAR
