BEGIN:VCALENDAR
VERSION:2.0
PRODID:-//horsealert.local//NONSGML kigkonsult.se iCalcreator 2.10.5//
CALSCALE:GREGORIAN
X-WR-TIMEZONE:Europe/Dublin
BEGIN:VTIMEZONE
TZID:Etc/GMT-1
BEGIN:STANDARD
DTSTART:20010101T000000
TZOFFSETFROM:+0100
TZOFFSETTO:+0100
TZNAME:GMT +01:00
END:STANDARD
END:VTIMEZONE
BEGIN:VEVENT
UID:20260423T183348CEST-3333OUexwe@horsealert.local
DTSTAMP:20260423T160448Z
CATEGORIES:Horse Alerts
DESCRIPTION:Betfred Racing \'Follow Us On Twitter\' Fillies\' Handicap
DTSTART:20150503T162000
LOCATION:England
SUMMARY:Horse Racing:Betfred Racing \'Follow Us On Twitter\' Fillies\' Hand
 icap
END:VEVENT
END:VCALENDAR
