BEGIN:VCALENDAR
VERSION:2.0
PRODID:-//horsealert.local//NONSGML kigkonsult.se iCalcreator 2.10.5//
CALSCALE:GREGORIAN
X-WR-TIMEZONE:Europe/Dublin
BEGIN:VTIMEZONE
TZID:Etc/GMT-1
BEGIN:STANDARD
DTSTART:20010101T000000
TZOFFSETFROM:+0100
TZOFFSETTO:+0100
TZNAME:GMT +01:00
END:STANDARD
END:VTIMEZONE
BEGIN:VEVENT
UID:20260423T183442CEST-3745fu4IKr@horsealert.local
DTSTAMP:20260423T160442Z
CATEGORIES:Horse Alerts
DESCRIPTION:Betdaq 50% Comm Back First 3 Months Maiden Stakes
DTSTART:20150502T194500
LOCATION:England
SUMMARY:Horse Racing:Betdaq 50% Comm Back First 3 Months Maiden Stakes
END:VEVENT
END:VCALENDAR
