BEGIN:VCALENDAR
VERSION:2.0
PRODID:-//horsealert.local//NONSGML kigkonsult.se iCalcreator 2.10.5//
CALSCALE:GREGORIAN
X-WR-TIMEZONE:Europe/Dublin
BEGIN:VTIMEZONE
TZID:Etc/GMT-1
BEGIN:STANDARD
DTSTART:20010101T000000
TZOFFSETFROM:+0100
TZOFFSETTO:+0100
TZNAME:GMT +01:00
END:STANDARD
END:VTIMEZONE
BEGIN:VEVENT
UID:20260423T183440CEST-6721dl4boD@horsealert.local
DTSTAMP:20260423T160440Z
CATEGORIES:Horse Alerts
DESCRIPTION:EPDS Racing Partnerships Supporting Racing Welfare Novices\' Hu
 rdle
DTSTART:20150501T175000
LOCATION:Wales
SUMMARY:Horse Racing:EPDS Racing Partnerships Supporting Racing Welfare Nov
 ices\' Hurdle
END:VEVENT
END:VCALENDAR
