BEGIN:VCALENDAR
VERSION:2.0
PRODID:-//horsealert.local//NONSGML kigkonsult.se iCalcreator 2.10.5//
CALSCALE:GREGORIAN
X-WR-TIMEZONE:Europe/Dublin
BEGIN:VTIMEZONE
TZID:Etc/GMT-1
BEGIN:STANDARD
DTSTART:20010101T000000
TZOFFSETFROM:+0100
TZOFFSETTO:+0100
TZNAME:GMT +01:00
END:STANDARD
END:VTIMEZONE
BEGIN:VEVENT
UID:20260423T183402CEST-9162d00Kno@horsealert.local
DTSTAMP:20260423T160402Z
CATEGORIES:Horse Alerts
DESCRIPTION:Irish Thoroughbred Breeders Association Fillies Scheme Fillies 
 Premier Bumper
DTSTART:20150501T191000
LOCATION:Eire
SUMMARY:Horse Racing:Irish Thoroughbred Breeders Association Fillies Scheme
  Fillies Premier Bumper
END:VEVENT
END:VCALENDAR
